BEGIN:VCALENDAR
VERSION:2.0
PRODID:-//Kabouterland - ECPv6.15.18//NONSGML v1.0//EN
CALSCALE:GREGORIAN
METHOD:PUBLISH
X-WR-CALNAME:Kabouterland
X-ORIGINAL-URL:https://www.kabouterland.co.za
X-WR-CALDESC:Events for Kabouterland
REFRESH-INTERVAL;VALUE=DURATION:PT1H
X-Robots-Tag:noindex
X-PUBLISHED-TTL:PT1H
BEGIN:VTIMEZONE
TZID:Africa/Harare
BEGIN:STANDARD
TZOFFSETFROM:+0200
TZOFFSETTO:+0200
TZNAME:CAT
DTSTART:20250101T000000
END:STANDARD
END:VTIMEZONE
BEGIN:VEVENT
DTSTART;VALUE=DATE:20260507
DTEND;VALUE=DATE:20260508
DTSTAMP:20260425T124007
CREATED:20260209T095650Z
LAST-MODIFIED:20260209T104234Z
UID:12849-1778112000-1778198399@www.kabouterland.co.za
SUMMARY:Tannie Jo-Anne Verjaar (Skilpadjies)
DESCRIPTION:
URL:https://www.kabouterland.co.za/event/jo-anne-verjaar/
LOCATION:Western Cape
CATEGORIES:Personeel Verjaarsdae
END:VEVENT
BEGIN:VEVENT
DTSTART;VALUE=DATE:20260509
DTEND;VALUE=DATE:20260510
DTSTAMP:20260425T124007
CREATED:20260209T095753Z
LAST-MODIFIED:20260209T104229Z
UID:12851-1778284800-1778371199@www.kabouterland.co.za
SUMMARY:Tannie Katrina Verjaar (Kantoor | Peuter-Hoof)
DESCRIPTION:
URL:https://www.kabouterland.co.za/event/katrina-verjaar/
LOCATION:Western Cape
CATEGORIES:Personeel Verjaarsdae
END:VEVENT
BEGIN:VEVENT
DTSTART;VALUE=DATE:20260524
DTEND;VALUE=DATE:20260525
DTSTAMP:20260425T124007
CREATED:20260209T095903Z
LAST-MODIFIED:20260209T104224Z
UID:12853-1779580800-1779667199@www.kabouterland.co.za
SUMMARY:Tannie Maurena Verjaar (Vissies)
DESCRIPTION:
URL:https://www.kabouterland.co.za/event/maurena-verjaar/
LOCATION:Western Cape
CATEGORIES:Personeel Verjaarsdae
END:VEVENT
BEGIN:VEVENT
DTSTART;VALUE=DATE:20260524
DTEND;VALUE=DATE:20260525
DTSTAMP:20260425T124007
CREATED:20260209T095953Z
LAST-MODIFIED:20260209T104214Z
UID:12855-1779580800-1779667199@www.kabouterland.co.za
SUMMARY:Tannie Samantha Verjaar (Beertjies)
DESCRIPTION:
URL:https://www.kabouterland.co.za/event/samantha-verjaar/
LOCATION:Western Cape
CATEGORIES:Personeel Verjaarsdae
END:VEVENT
BEGIN:VEVENT
DTSTART;VALUE=DATE:20260528
DTEND;VALUE=DATE:20260529
DTSTAMP:20260425T124007
CREATED:20260209T100035Z
LAST-MODIFIED:20260209T104208Z
UID:12857-1779926400-1780012799@www.kabouterland.co.za
SUMMARY:Tannie Jordan Verjaar (Pikkewyne)
DESCRIPTION:
URL:https://www.kabouterland.co.za/event/jordan-verjaar/
LOCATION:Western Cape
CATEGORIES:Personeel Verjaarsdae
END:VEVENT
BEGIN:VEVENT
DTSTART;VALUE=DATE:20260529
DTEND;VALUE=DATE:20260530
DTSTAMP:20260425T124007
CREATED:20251210T064758Z
LAST-MODIFIED:20260209T094841Z
UID:12695-1780012800-1780099199@www.kabouterland.co.za
SUMMARY:Slipperdag
DESCRIPTION:
URL:https://www.kabouterland.co.za/event/slipperdag/
LOCATION:Kabouterland\, Kabouterland\, Blaauwklippen Road\, Paradskloof\, 7600\, Stellenbosch\, Western Cape\, 7600\, South Africa
CATEGORIES:Belangrike Datums
END:VEVENT
BEGIN:VEVENT
DTSTART;VALUE=DATE:20260529
DTEND;VALUE=DATE:20260530
DTSTAMP:20260425T124007
CREATED:20260209T100630Z
LAST-MODIFIED:20260209T104203Z
UID:12859-1780012800-1780099199@www.kabouterland.co.za
SUMMARY:Tannie Natasha Verjaar (Eendjies)
DESCRIPTION:
URL:https://www.kabouterland.co.za/event/natasha-d-verjaar/
LOCATION:Western Cape
CATEGORIES:Personeel Verjaarsdae
END:VEVENT
BEGIN:VEVENT
DTSTART;VALUE=DATE:20260611
DTEND;VALUE=DATE:20260612
DTSTAMP:20260425T124007
CREATED:20260209T100753Z
LAST-MODIFIED:20260209T104158Z
UID:12861-1781136000-1781222399@www.kabouterland.co.za
SUMMARY:Tannie Verna Verjaar (Bytjies)
DESCRIPTION:
URL:https://www.kabouterland.co.za/event/verna-verjaar/
LOCATION:Western Cape
CATEGORIES:Personeel Verjaarsdae
END:VEVENT
BEGIN:VEVENT
DTSTART;VALUE=DATE:20260612
DTEND;VALUE=DATE:20260613
DTSTAMP:20260425T124007
CREATED:20260209T100909Z
LAST-MODIFIED:20260209T104152Z
UID:12863-1781222400-1781308799@www.kabouterland.co.za
SUMMARY:Tannie Tessa Verjaar (Ladybirds)
DESCRIPTION:
URL:https://www.kabouterland.co.za/event/tessa-verjaar/
LOCATION:Western Cape
CATEGORIES:Personeel Verjaarsdae
END:VEVENT
BEGIN:VEVENT
DTSTART;VALUE=DATE:20260625
DTEND;VALUE=DATE:20260626
DTSTAMP:20260425T124007
CREATED:20260209T100959Z
LAST-MODIFIED:20260209T104145Z
UID:12865-1782345600-1782431999@www.kabouterland.co.za
SUMMARY:Juffrou Amber Verjaar (Skilpadjies)
DESCRIPTION:
URL:https://www.kabouterland.co.za/event/amber-verjaar/
LOCATION:Western Cape
CATEGORIES:Personeel Verjaarsdae
END:VEVENT
BEGIN:VEVENT
DTSTART;VALUE=DATE:20260705
DTEND;VALUE=DATE:20260706
DTSTAMP:20260425T124007
CREATED:20260209T101054Z
LAST-MODIFIED:20260209T104139Z
UID:12867-1783209600-1783295999@www.kabouterland.co.za
SUMMARY:Juffrou Tarynn Verjaar (Ladybirds)
DESCRIPTION:
URL:https://www.kabouterland.co.za/event/tarynn-verjaar/
LOCATION:Western Cape
CATEGORIES:Personeel Verjaarsdae
END:VEVENT
BEGIN:VEVENT
DTSTART;VALUE=DATE:20260708
DTEND;VALUE=DATE:20260709
DTSTAMP:20260425T124007
CREATED:20260209T101147Z
LAST-MODIFIED:20260209T104134Z
UID:12869-1783468800-1783555199@www.kabouterland.co.za
SUMMARY:Tannie Vivian Verjaar (Sekretaresse)
DESCRIPTION:
URL:https://www.kabouterland.co.za/event/vivian-verjaar/
LOCATION:Western Cape
CATEGORIES:Personeel Verjaarsdae
END:VEVENT
BEGIN:VEVENT
DTSTART;VALUE=DATE:20260711
DTEND;VALUE=DATE:20260712
DTSTAMP:20260425T124007
CREATED:20260209T101403Z
LAST-MODIFIED:20260209T104128Z
UID:12871-1783728000-1783814399@www.kabouterland.co.za
SUMMARY:Tannie Natasha Verjaar (Skilpadjies)
DESCRIPTION:
URL:https://www.kabouterland.co.za/event/natasha-l-verjaar/
LOCATION:Western Cape
CATEGORIES:Personeel Verjaarsdae
END:VEVENT
BEGIN:VEVENT
DTSTART;VALUE=DATE:20260719
DTEND;VALUE=DATE:20260720
DTSTAMP:20260425T124007
CREATED:20260209T101523Z
LAST-MODIFIED:20260209T104122Z
UID:12873-1784419200-1784505599@www.kabouterland.co.za
SUMMARY:Tannie Yolande Verjaar (Muise A)
DESCRIPTION:
URL:https://www.kabouterland.co.za/event/yolande-verjaar/
LOCATION:Western Cape
CATEGORIES:Personeel Verjaarsdae
END:VEVENT
BEGIN:VEVENT
DTSTART;VALUE=DATE:20260724
DTEND;VALUE=DATE:20260725
DTSTAMP:20260425T124007
CREATED:20260209T101607Z
LAST-MODIFIED:20260209T104116Z
UID:12875-1784851200-1784937599@www.kabouterland.co.za
SUMMARY:Tannie Sanna Verjaar (Vissies)
DESCRIPTION:
URL:https://www.kabouterland.co.za/event/sanna-verjaar/
LOCATION:Western Cape
CATEGORIES:Personeel Verjaarsdae
END:VEVENT
BEGIN:VEVENT
DTSTART;VALUE=DATE:20260802
DTEND;VALUE=DATE:20260803
DTSTAMP:20260425T124007
CREATED:20260209T101655Z
LAST-MODIFIED:20260209T104111Z
UID:12877-1785628800-1785715199@www.kabouterland.co.za
SUMMARY:Tannie Reana Verjaar (Kabouter-Mamma)
DESCRIPTION:
URL:https://www.kabouterland.co.za/event/reana-verjaar/
LOCATION:Western Cape
CATEGORIES:Personeel Verjaarsdae
END:VEVENT
BEGIN:VEVENT
DTSTART;VALUE=DATE:20260806
DTEND;VALUE=DATE:20260807
DTSTAMP:20260425T124007
CREATED:20260209T101744Z
LAST-MODIFIED:20260209T104100Z
UID:12879-1785974400-1786060799@www.kabouterland.co.za
SUMMARY:Tannie Tania Verjaar (Kombuis)
DESCRIPTION:
URL:https://www.kabouterland.co.za/event/tania-verjaar/
LOCATION:Western Cape
CATEGORIES:Personeel Verjaarsdae
END:VEVENT
BEGIN:VEVENT
DTSTART;VALUE=DATE:20260813
DTEND;VALUE=DATE:20260814
DTSTAMP:20260425T124007
CREATED:20260209T101903Z
LAST-MODIFIED:20260209T104054Z
UID:12881-1786579200-1786665599@www.kabouterland.co.za
SUMMARY:Tannie Zethu Verjaar (Kombuis | Nasorg)
DESCRIPTION:
URL:https://www.kabouterland.co.za/event/zethu-verjaar/
LOCATION:Western Cape
CATEGORIES:Personeel Verjaarsdae
END:VEVENT
BEGIN:VEVENT
DTSTART;VALUE=DATE:20260824
DTEND;VALUE=DATE:20260825
DTSTAMP:20260425T124007
CREATED:20260209T102454Z
LAST-MODIFIED:20260209T104049Z
UID:12883-1787529600-1787615999@www.kabouterland.co.za
SUMMARY:Juffrou Angie Verjaar (Seeperdjies)
DESCRIPTION:
URL:https://www.kabouterland.co.za/event/angie-verjaar/
LOCATION:Western Cape
CATEGORIES:Personeel Verjaarsdae
END:VEVENT
BEGIN:VEVENT
DTSTART;VALUE=DATE:20260824
DTEND;VALUE=DATE:20260825
DTSTAMP:20260425T124007
CREATED:20260209T102603Z
LAST-MODIFIED:20260209T104043Z
UID:12885-1787529600-1787615999@www.kabouterland.co.za
SUMMARY:Juffrou Justine Verjaar (Pikkewyne)
DESCRIPTION:
URL:https://www.kabouterland.co.za/event/justine-verjaar/
LOCATION:Western Cape
CATEGORIES:Personeel Verjaarsdae
END:VEVENT
BEGIN:VEVENT
DTSTART;TZID=Africa/Harare:20260827T163000
DTEND;TZID=Africa/Harare:20260827T180000
DTSTAMP:20260425T124007
CREATED:20251210T064919Z
LAST-MODIFIED:20260209T094836Z
UID:12697-1787848200-1787853600@www.kabouterland.co.za
SUMMARY:Kunsuitstalling
DESCRIPTION:
URL:https://www.kabouterland.co.za/event/kunsuitstalling/
LOCATION:Kabouterland\, Kabouterland\, Blaauwklippen Road\, Paradskloof\, 7600\, Stellenbosch\, Western Cape\, 7600\, South Africa
CATEGORIES:Belangrike Datums
END:VEVENT
BEGIN:VEVENT
DTSTART;TZID=Africa/Harare:20260828T080000
DTEND;TZID=Africa/Harare:20260828T090000
DTSTAMP:20260425T124007
CREATED:20251210T065102Z
LAST-MODIFIED:20260209T094830Z
UID:12699-1787904000-1787907600@www.kabouterland.co.za
SUMMARY:Plaasontbyt
DESCRIPTION:
URL:https://www.kabouterland.co.za/event/plaasontbyt/
LOCATION:Kabouterland\, Kabouterland\, Blaauwklippen Road\, Paradskloof\, 7600\, Stellenbosch\, Western Cape\, 7600\, South Africa
CATEGORIES:Belangrike Datums
END:VEVENT
BEGIN:VEVENT
DTSTART;VALUE=DATE:20260901
DTEND;VALUE=DATE:20260902
DTSTAMP:20260425T124007
CREATED:20251210T065134Z
LAST-MODIFIED:20260209T094824Z
UID:12701-1788220800-1788307199@www.kabouterland.co.za
SUMMARY:Lentedag
DESCRIPTION:
URL:https://www.kabouterland.co.za/event/lentedag/
LOCATION:Kabouterland\, Kabouterland\, Blaauwklippen Road\, Paradskloof\, 7600\, Stellenbosch\, Western Cape\, 7600\, South Africa
CATEGORIES:Belangrike Datums
END:VEVENT
BEGIN:VEVENT
DTSTART;VALUE=DATE:20260909
DTEND;VALUE=DATE:20260910
DTSTAMP:20260425T124007
CREATED:20260209T102646Z
LAST-MODIFIED:20260209T104036Z
UID:12887-1788912000-1788998399@www.kabouterland.co.za
SUMMARY:Tannie Chadia Verjaar (Beertjies)
DESCRIPTION:
URL:https://www.kabouterland.co.za/event/chadia-verjaar/
LOCATION:Western Cape
CATEGORIES:Personeel Verjaarsdae
END:VEVENT
BEGIN:VEVENT
DTSTART;VALUE=DATE:20260909
DTEND;VALUE=DATE:20260910
DTSTAMP:20260425T124007
CREATED:20260209T102852Z
LAST-MODIFIED:20260209T104023Z
UID:12890-1788912000-1788998399@www.kabouterland.co.za
SUMMARY:Tannie Lameez Verjaar (Nasorg)
DESCRIPTION:
URL:https://www.kabouterland.co.za/event/lameez-verjaar/
LOCATION:Western Cape
CATEGORIES:Personeel Verjaarsdae
END:VEVENT
BEGIN:VEVENT
DTSTART;VALUE=DATE:20260911
DTEND;VALUE=DATE:20260912
DTSTAMP:20260425T124007
CREATED:20260209T103034Z
LAST-MODIFIED:20260209T104013Z
UID:12892-1789084800-1789171199@www.kabouterland.co.za
SUMMARY:Juffrou Alta Verjaar (Muise A | Nasorg)
DESCRIPTION:
URL:https://www.kabouterland.co.za/event/alta-verjaar/
LOCATION:Western Cape
CATEGORIES:Personeel Verjaarsdae
END:VEVENT
BEGIN:VEVENT
DTSTART;TZID=Africa/Harare:20260912T090000
DTEND;TZID=Africa/Harare:20260912T120000
DTSTAMP:20260425T124007
CREATED:20251210T065248Z
LAST-MODIFIED:20260209T094817Z
UID:12703-1789203600-1789214400@www.kabouterland.co.za
SUMMARY:Oupa & Ouma Dag
DESCRIPTION:
URL:https://www.kabouterland.co.za/event/oupa-ouma-dag/
LOCATION:Kabouterland\, Kabouterland\, Blaauwklippen Road\, Paradskloof\, 7600\, Stellenbosch\, Western Cape\, 7600\, South Africa
CATEGORIES:Belangrike Datums
END:VEVENT
BEGIN:VEVENT
DTSTART;VALUE=DATE:20260923
DTEND;VALUE=DATE:20260924
DTSTAMP:20260425T124007
CREATED:20260209T103156Z
LAST-MODIFIED:20260209T103958Z
UID:12895-1790121600-1790207999@www.kabouterland.co.za
SUMMARY:Tannie Sophia Verjaar (Eendjies)
DESCRIPTION:
URL:https://www.kabouterland.co.za/event/sophia-verjaar/
LOCATION:Western Cape
CATEGORIES:Personeel Verjaarsdae
END:VEVENT
BEGIN:VEVENT
DTSTART;VALUE=DATE:20260928
DTEND;VALUE=DATE:20260929
DTSTAMP:20260425T124007
CREATED:20260209T103341Z
LAST-MODIFIED:20260209T103951Z
UID:12897-1790553600-1790639999@www.kabouterland.co.za
SUMMARY:Juffrou Shannon Verjaar (Beertjies)
DESCRIPTION:
URL:https://www.kabouterland.co.za/event/shannon-verjaar/
LOCATION:Western Cape
CATEGORIES:Personeel Verjaarsdae
END:VEVENT
BEGIN:VEVENT
DTSTART;VALUE=DATE:20261002
DTEND;VALUE=DATE:20261003
DTSTAMP:20260425T124007
CREATED:20260209T103451Z
LAST-MODIFIED:20260209T104005Z
UID:12900-1790899200-1790985599@www.kabouterland.co.za
SUMMARY:Oom Reon Verjaar
DESCRIPTION:
URL:https://www.kabouterland.co.za/event/reon-verjaar/
LOCATION:Western Cape
CATEGORIES:Personeel Verjaarsdae
END:VEVENT
END:VCALENDAR